Workbook

Sheet Erläuterung
B2: Versionsnummer 026807_B_082026 | D2: 5118zuwendungen@region-hannover.de
B4: Erläuterungen zum Ausgaben- und Finanzierungsplan
B9: Diese Excelmappe enthält alle Unterlagen, welche für den Ausgaben- und Finanzierungsplan (Anlage 1) benötigt werden.
B10: Sie besteht aus den folgenden fünf Registerblättern. Alle Registerblätter sind mit dem Zuwendungsantrag im Original
B11: postalisch bei der Region Hannover einzureichen.
B13: Diese Registerblätter sind dahingehend formatiert, dass Felder, welche eine Eingabe erfordern, bearbeitet werden können.
B14: Felder, die keine Eingabe erfordern, können nicht angesteuert werden.
B16: Folgende Hinweise zu den einzelnen Registerblättern.
B18: 1. Gesamtübersicht
B20: Bitte starten Sie Ihre Eingabe auf diesem Registerblatt. Dort sind die allgemeinen Angaben zum Projekt sowie die
B21: vorgesehene Finanzierung der Ausgaben einzutragen. Die Ausgaben ergeben sich zusammengefasst aus den
B22: weiteren Registerblättern 2, 4 und 5.
B24: Durch den Ausgaben- und Finanzierungsplan muss die Gesamtfinanzierung des Projektes abgebildet sein. In diesem müssen
... B62: Im Verwendungsnachweis sind bei der Spitzabrechnung sämtliche Sachkosten anhand von Originalbelegen nachzuweisen.

Sheet 1. Gesamtübersicht
B2: =Erläuterung!B2 -> Versionsnummer 026807_B_082026 | D2: =Erläuterung!D2 -> 5118zuwendungen@region-hannover.de
B4: Anlage 1: | D4: Ausgaben- und Finanzierungsplan
B5: Registerblatt 1: | D5: Gesamtübersicht
B7: Anlage zum Förderantrag vom
B8: Antragsstellender
B9: Projekt
B10: Projektzeitraum
D11: Beginn | E11: Ende
B12: Stand | D12: =TODAY() -> 46239
B14: Ausgaben
E15: =IF(YEAR(D10)=1900,"",YEAR(D10))
B16: 1. | C16: Personalausgaben | E16: =SUM(Tabelle5[Haushaltsjahr 12]) -> 0
B17: 2. | C17: Honorarausgaben | E17: =SUM(Tabelle1[Haushaltsjahr 1]) -> 0
B18: 3. | C18: Sachausgaben | E18: =SUM(Tabelle2[Spalte1])+'5. Sachausgaben'!D18 -> 0
B19: Gesamtsumme | E19: =SUM(E16:E18) -> 0
B21: Einnahmen
E22: =IF(YEAR(D10)=1900,"",YEAR(D10))
B23: 1. | C23: Eigenmittel
B24: 2. | C24: Einnahmen aus dem Projekt
B25: 3. | C25: Drittmittel | E25: =SUM(E26:E27) -> 0
B26: 3.1. | C26: Projektbezogene Spenden
B27: 3.2. | C27: Förderungen von Stiftungen, Vereinen
B28: 4. | C28: Öffentliche Förderungen | E28: =SUM(E29:E32) -> 0
B29: 4.1. | C29: Kommunale Förderungen
B30: 4.2. | C30: Region Hannover
B31: 4.3. | C31: Landesförderungen
B32: 4.4. | C32: Bundesförderungen
B33: Gesamtsumme | E33: =E23+E24+E25+E28 -> 0
B35: Kontrolle | D35: =D33-D19 -> 0 | E35: =E33-E19 -> 0
D36: =IF(D35=0,0,1) -> 0 | E36: =IF(E35=0,0,1) -> 0
B38: =IF(SUM(D36:E36)=0,"Die Einnahmen entsprechen den Ausgaben.","Achtung, der Ausgaben- und Finanzierungsplan ist nicht ausgeglichen!") -> Die Einnahmen entsprechen den Ausgaben.

Sheet 2. Personal (Monetär)
B2: ='1. Gesamtübersicht'!B2 -> Versionsnummer 026807_B_082026 | D2: ='1. Gesamtübersicht'!D2 -> 5118zuwendungen@region-hannover.de
B4: Anlage 1: | C4: Ausgaben- und Finanzierungsplan
B5: Registerblatt 2: | C5: Personaleinsatz (Monetär)
B7: Anlage zum Förderantrag vom | C7: =IF('1. Gesamtübersicht'!D7=0,"",'1. Gesamtübersicht'!D7)
B8: Antragsstellender | C8: =IF('1. Gesamtübersicht'!D8=0,"",'1. Gesamtübersicht'!D8)
B9: Projekt | C9: =IF('1. Gesamtübersicht'!D9=0,"",'1. Gesamtübersicht'!D9)
B10: Projektzeitraum | C10: =IF('1. Gesamtübersicht'!D10=0,"",'1. Gesamtübersicht'!D10) | D10: =IF('1. Gesamtübersicht'!E10=0,"",'1. Gesamtübersicht'!E10)
C11: Beginn | D11: Ende
B12: ='1. Gesamtübersicht'!B12 -> Stand | C12: ='1. Gesamtübersicht'!D12 -> 46239
B14: =C5 -> Personaleinsatz (Monetär)
B16: Vorname | C16: Name | D16: Einsatzzeitraum Beginn | E16: Einsatzzeitraum Ende | F16: Wochenstunden lt. Arbeitsvertrag | G16: Wochenstunden im Projekt | H16: Entgeltgruppe und Stufe (nach TVöD) | I16: =IF(YEAR('1. Gesamtübersicht'!D10)=1900,"Bitte Projektzeitraum ausfüllen","Arbeitgeber- bruttoausgaben"&" "&YEAR('1. Gesamtübersicht'!D10)) -> Bitte Projektzeitraum ausfüllen | J16: =IF(YEAR('1. Gesamtübersicht'!D10)=1900,"Bitte Projektzeitraum ausfüllen","Davon Projektanteil"&" "&YEAR('1. Gesamtübersicht'!D10)) -> Bitte Projektzeitraum ausfüllen
I17: =IF(YEAR('1. Gesamtübersicht'!D10)=1900,"",YEAR('1. Gesamtübersicht'!D10)) | J17: =I17
B18: Vorname | C18: Name | D18: Einsatzzeitraum | E18: Einsatzzeitraum Ende | F18: Wochenstunden lt. Arbeitsvertrag | G18: Wochenstunden im Projekt | H18: Entgeltgruppe und Stufe (nach TVöD) | I18: Haushaltsjahr 1 | J18: Haushaltsjahr 12
J19: =IFERROR(ROUND(Tabelle5[[#This Row],[Wochenstunden im Projekt]]/Tabelle5[[#This Row],[Wochenstunden lt. Arbeitsvertrag]]*Tabelle5[[#This Row],[Haushaltsjahr 1]],2),"")
J20: =IFERROR(ROUND(Tabelle5[[#This Row],[Wochenstunden im Projekt]]/Tabelle5[[#This Row],[Wochenstunden lt. Arbeitsvertrag]]*Tabelle5[[#This Row],[Haushaltsjahr 1]],2),"")
J21: =IFERROR(ROUND(Tabelle5[[#This Row],[Wochenstunden im Projekt]]/Tabelle5[[#This Row],[Wochenstunden lt. Arbeitsvertrag]]*Tabelle5[[#This Row],[Haushaltsjahr 1]],2),"")
J22: =IFERROR(ROUND(Tabelle5[[#This Row],[Wochenstunden im Projekt]]/Tabelle5[[#This Row],[Wochenstunden lt. Arbeitsvertrag]]*Tabelle5[[#This Row],[Haushaltsjahr 1]],2),"")
J23: =IFERROR(ROUND(Tabelle5[[#This Row],[Wochenstunden im Projekt]]/Tabelle5[[#This Row],[Wochenstunden lt. Arbeitsvertrag]]*Tabelle5[[#This Row],[Haushaltsjahr 1]],2),"")
J24: =IFERROR(ROUND(Tabelle5[[#This Row],[Wochenstunden im Projekt]]/Tabelle5[[#This Row],[Wochenstunden lt. Arbeitsvertrag]]*Tabelle5[[#This Row],[Haushaltsjahr 1]],2),"")
J25: =IFERROR(ROUND(Tabelle5[[#This Row],[Wochenstunden im Projekt]]/Tabelle5[[#This Row],[Wochenstunden lt. Arbeitsvertrag]]*Tabelle5[[#This Row],[Haushaltsjahr 1]],2),"")
J26: =IFERROR(ROUND(Tabelle5[[#This Row],[Wochenstunden im Projekt]]/Tabelle5[[#This Row],[Wochenstunden lt. Arbeitsvertrag]]*Tabelle5[[#This Row],[Haushaltsjahr 1]],2),"")
J27: =IFERROR(ROUND(Tabelle5[[#This Row],[Wochenstunden im Projekt]]/Tabelle5[[#This Row],[Wochenstunden lt. Arbeitsvertrag]]*Tabelle5[[#This Row],[Haushaltsjahr 1]],2),"")
J28: =IFERROR(ROUND(Tabelle5[[#This Row],[Wochenstunden im Projekt]]/Tabelle5[[#This Row],[Wochenstunden lt. Arbeitsvertrag]]*Tabelle5[[#This Row],[Haushaltsjahr 1]],2),"")
J29: =IFERROR(ROUND(Tabelle5[[#This Row],[Wochenstunden im Projekt]]/Tabelle5[[#This Row],[Wochenstunden lt. Arbeitsvertrag]]*Tabelle5[[#This Row],[Haushaltsjahr 1]],2),"")
J30: =IFERROR(ROUND(Tabelle5[[#This Row],[Wochenstunden im Projekt]]/Tabelle5[[#This Row],[Wochenstunden lt. Arbeitsvertrag]]*Tabelle5[[#This Row],[Haushaltsjahr 1]],2),"")

Sheet 3. Personal (Tätigkeiten)
B2: ='1. Gesamtübersicht'!B2 -> Versionsnummer 026807_B_082026 | D2: ='1. Gesamtübersicht'!D2 -> 5118zuwendungen@region-hannover.de
B4: Anlage 1: | C4: Ausgaben- und Finanzierungsplan
B5: Registerblatt 3: | C5: Personaleinsatz (Tätigkeiten)
B7: ='1. Gesamtübersicht'!B7 -> Anlage zum Förderantrag vom | C7: =IF('1. Gesamtübersicht'!D7=0,"",'1. Gesamtübersicht'!D7)
B8: ='1. Gesamtübersicht'!B8 -> Antragsstellender | C8: =IF('1. Gesamtübersicht'!D8=0,"",'1. Gesamtübersicht'!D8)
B9: ='1. Gesamtübersicht'!B9 -> Projekt | C9: =IF('1. Gesamtübersicht'!D9=0,"",'1. Gesamtübersicht'!D9)
B10: ='1. Gesamtübersicht'!B10 -> Projektzeitraum | C10: =IF('1. Gesamtübersicht'!D10=0,"",'1. Gesamtübersicht'!D10) | D10: =IF('1. Gesamtübersicht'!E10=0,"",'1. Gesamtübersicht'!E10)
C11: Beginn | D11: Ende
B12: ='1. Gesamtübersicht'!B12 -> Stand | C12: ='1. Gesamtübersicht'!D12 -> 46239
B14: =C5 -> Personaleinsatz (Tätigkeiten)
B16: Vorname | C16: Name | D16: Funktion | E16: Qualifikation | F16: Beschreibung der Tätigkeit
B17: Vorname | C17: Name | D17: Funktiom | E17: Qualifikation | F17: Beschreibung der Tätigkeit

Sheet 4. Honorarkräfte
B2: ='1. Gesamtübersicht'!B2 -> Versionsnummer 026807_B_082026 | D2: ='1. Gesamtübersicht'!D2 -> 5118zuwendungen@region-hannover.de
B4: Anlage 1: | C4: Ausgaben- und Finanzierungsplan
B5: Registerblatt 4: | C5: Honorarkräfte
B7: Anlage zum Förderantrag vom | C7: =IF('1. Gesamtübersicht'!D7=0,"",'1. Gesamtübersicht'!D7)
B8: Antragsstellender | C8: =IF('1. Gesamtübersicht'!D8=0,"",'1. Gesamtübersicht'!D8)
B9: Projekt | C9: =IF('1. Gesamtübersicht'!D9=0,"",'1. Gesamtübersicht'!D9)
B10: Projektzeitraum | C10: =IF('1. Gesamtübersicht'!D10=0,"",'1. Gesamtübersicht'!D10) | D10: =IF('1. Gesamtübersicht'!E10=0,"",'1. Gesamtübersicht'!E10)
C11: Beginn | D11: Ende
B12: Stand | C12: ='1. Gesamtübersicht'!D12 -> 46239
B14: =C5 -> Honorarkräfte
B16: Vorname | C16: Name | D16: Funktion | E16: Qualifikation | F16: Einsatzzeitraum Beginn | G16: Einsatzzeitraum Ende | H16: Gesamtstunden | I16: Stundensatz | J16: =IF(YEAR('1. Gesamtübersicht'!D10)=1900,"Bitte Projektzeitraum ausfüllen",YEAR('1. Gesamtübersicht'!D10)) -> Bitte Projektzeitraum ausfüllen
B17: Vorname | C17: Name | D17: Funktion | E17: Qualifikation | F17: Einsatz-zeitraum Beginn | G17: Einsatz-zeitraum Ende | H17: Gesamtstunden | I17: Stundensatz | J17: Haushaltsjahr 1

Sheet 5. Sachausgaben
B2: ='1. Gesamtübersicht'!B2 -> Versionsnummer 026807_B_082026 | D2: ='1. Gesamtübersicht'!D2 -> 5118zuwendungen@region-hannover.de
B4: Anlage 1: | C4: Ausgaben- und Finanzierungsplan
B5: Registerblatt 5: | C5: Sachausgaben
B7: Anlage zum Förderantrag vom | C7: =IF('1. Gesamtübersicht'!D7=0,"",'1. Gesamtübersicht'!D7)
B8: Antragsstellender | C8: =IF('1. Gesamtübersicht'!D8=0,"",'1. Gesamtübersicht'!D8)
B9: Projekt | C9: =IF('1. Gesamtübersicht'!D9=0,"",'1. Gesamtübersicht'!D9)
B10: Projektzeitraum | C10: =IF('1. Gesamtübersicht'!D10=0,"",'1. Gesamtübersicht'!D10) | D10: =IF('1. Gesamtübersicht'!E10=0,"",'1. Gesamtübersicht'!E10)
C11: Beginn | D11: Ende
B12: Stand | C12: ='1. Gesamtübersicht'!D12 -> 46239
B14: Sachausgaben
B16: Inanspruchnahme der Arbeitsplatzsachkostenpauschale: | E16: * Pflichtfeld
B17: Höhe der Arbeitsplatzsachkostenpauschale: | D17: =IF(D16="JA",'1. Gesamtübersicht'!E16*0.1,"Spitzabrechnung einzutragen") -> Spitzabrechnung einzutragen
D18: =IF(D16="JA",'1. Gesamtübersicht'!E16*0.1,"0") -> 0
B20: Ausgaben-position | C20: =IF(YEAR('1. Gesamtübersicht'!D10)=1900,"Bitte Projektzeitraum ausfüllen",YEAR('1. Gesamtübersicht'!D10)) -> Bitte Projektzeitraum ausfüllen
B21: Ausgaben-position | C21: Spalte1
B22: Raummieten für Angebote
B23: Geringwertige Wirtschaftsgüter
B24: Öffentlichkeitsarbeit

Sheet Tabelle1
B4: Ja
B5: Nein
